Workbook

Sheet Customers
A1: Lawn Care Payment Control Tracker
A2: Who still owes me before the next visit? Type only in the green cells. List customers here, bills already sent on Charges, and money received on Payments.
A3: Payments go to each customer's earliest-due charges first. Overdue = due before the as-of date. Upcoming visit = the as-of date through 7 days later. A worked example is in the Quick Start PDF. This organizes what you record; it isn't accounting or legal advice.
A5: As of | B5: =TODAY() -> 46316 | C5: Leave as =TODAY(). Type a date only to look at a different day, then put =TODAY() back.
A6: Upcoming to | B6: =AsOf+7 -> 46323
A7: Ledger check | B7: =IF(SUMPRODUCT(--(LEFT($M$11:$M$5000,4)="Fix:"))+SUMPRODUCT(--(LEFT(Charges!$H$6:$H$5000,4)="Fix:"))+SUMPRODUCT(--(LEFT(Payments!$G$6:$G$5000,4)="Fix:"))+SUMPRODUCT((LEN(Charges!$A$1006:$A$5000&Charges!$B$1006:$B$5000&Charges!$F$1006:$F$5000)>0)*(Charges!$H$1006:$H$5000=""))+SUMPRODUCT((LEN(Payments!$A$1006:$A$5000&Payments!$B$1006:$B$5000&Payments!$E$1006:$E$5000)>0)*(Payments!$G$1006:$G$5000=""))+SUMPRODUCT((LEN($A$311:$A$5000&$B$311:$B$5000)>0)*($M$311:$M$5000=""))=0,IF(COUNTA($A$11:$A$310)=0,"No customers yet. Add them below, then record charges and payments.","All rows check out."),"⚠ "&(SUMPRODUCT(--(LEFT($M$11:$M$5000,4)="Fix:"))+SUMPRODUCT(--(LEFT(Charges!$H$6:$H$5000,4)="Fix:"))+SUMPRODUCT(--(LEFT(Payments!$G$6:$G$5000,4)="Fix:"))+SUMPRODUCT((LEN(Charges!$A$1006:$A$5000&Charges!$B$1006:$B$5000&Charges!$F$1006:$F$5000)>0)*(Charges!$H$1006:$H$5000=""))+SUMPRODUCT((LEN(Payments!$A$1006:$A$5000&Payments!$B$1006:$B$5000&Payments!$E$1006:$E$5000)>0)*(Payments!$G$1006:$G$5000=""))+SUMPRODUCT((LEN($A$311:$A$5000&$B$311:$B$5000)>0)*($M$311:$M$5000="")))&" row(s) need fixing: "&SUMPRODUCT(--(LEFT($M$11:$M$5000,4)="Fix:"))&" on Customers, "&SUMPRODUCT(--(LEFT(Charges!$H$6:$H$5000,4)="Fix:"))&" on Charges, "&SUMPRODUCT(--(LEFT(Payments!$G$6:$G$5000,4)="Fix:"))&" on Payments"&IF(SUMPRODUCT((LEN(Charges!$A$1006:$A$5000&Charges!$B$1006:$B$5000&Charges!$F$1006:$F$5000)>0)*(Charges!$H$1006:$H$5000=""))+SUMPRODUCT((LEN(Payments!$A$1006:$A$5000&Payments!$B$1006:$B$5000&Payments!$E$1006:$E$5000)>0)*(Payments!$G$1006:$G$5000=""))+SUMPRODUCT((LEN($A$311:$A$5000&$B$311:$B$5000)>0)*($M$311:$M$5000=""))>0,", "&SUMPRODUCT((LEN(Charges!$A$1006:$A$5000&Charges!$B$1006:$B$5000&Charges!$F$1006:$F$5000)>0)*(Charges!$H$1006:$H$5000=""))+SUMPRODUCT((LEN(Payments!$A$1006:$A$5000&Payments!$B$1006:$B$5000&Payments!$E$1006:$E$5000)>0)*(Payments!$G$1006:$G$5000=""))+SUMPRODUCT((LEN($A$311:$A$5000&$B$311:$B$5000)>0)*($M$311:$M$5000=""))&" below the tables","")&". Totals for affected customers are withheld, and rows without a valid customer aren't counted anywhere until fixed.") -> No customers yet. Add them below, then record charges and payments.
A8: To review | B8: =COUNTIF($I$11:$I$310,"Review before next visit")&" before next visit · "&COUNTIF($D$11:$D$310,"Overdue")&" overdue · "&COUNTIF($D$11:$D$310,"Due today")&" due today" -> 0 before next visit · 0 overdue · 0 due today
A10: Customer ID | B10: Customer | C10: Next visit | D10: Status | E10: Balance | F10: Overdue | G10: Due today | H10: Next visit status | I10: Review | J10: Charges | K10: Payments | L10: Entries to fix | M10: Row check
D11: =IF($M11="","",IF($M11<>"OK","Check this row",IF($L11>0,"Check entries",IF(COUNTIF(Charges!$B$6:$B$5000,$A11)+COUNTIF(Payments!$B$6:$B$5000,$A11)=0,"No charges recorded",IF($E11<0,"Credit",IF($E11=0,"Clear",IF($F11>0,"Overdue",IF($G11>0,"Due today","Outstanding — not overdue")))))))) | E11: =IF($M11="","",IF(AND($M11="OK",$L11=0),ROUND($J11-$K11,2),"—")) | F11: =IF($M11="","",IF(AND($M11="OK",$L11=0),ROUND(MAX(0,ROUND(SUMIFS(Charges!$F$6:$F$5000,Charges!$B$6:$B$5000,$A11,Charges!$H$6:$H$5000,"OK",Charges!$E$6:$E$5000,"<"&AsOf),2)-$K11),2),"—")) | G11: =IF($M11="","",IF(AND($M11="OK",$L11=0),ROUND(MAX(0,ROUND(SUMIFS(Charges!$F$6:$F$5000,Charges!$B$6:$B$5000,$A11,Charges!$H$6:$H$5000,"OK",Charges!$E$6:$E$5000,"<="&AsOf),2)-$K11)-$F11,2),"—")) | H11: =IF($M11="","",IF($C11="","Not entered",IF($M11<>"OK","Check date",IF($C11<AsOf,"Date passed — update it",IF($C11<=AsOf+7,"Upcoming (next 7 days)","Later"))))) | I11: =IF(AND($D11="Overdue",$H11="Upcoming (next 7 days)"),"Review before next visit","") | J11: =IF($M11="","",ROUND(SUMIFS(Charges!$F$6:$F$5000,Charges!$B$6:$B$5000,$A11,Charges!$H$6:$H$5000,"OK"),2)) | K11: =IF($M11="","",ROUND(SUMIFS(Payments!$E$6:$E$5000,Payments!$B$6:$B$5000,$A11,Payments!$G$6:$G$5000,"OK"),2)) | L11: =IF($M11="","",(COUNTIF(Charges!$B$6:$B$5000,$A11)-COUNTIFS(Charges!$B$6:$B$5000,$A11,Charges!$H$6:$H$5000,"OK"))+(COUNTIF(Payments!$B$6:$B$5000,$A11)-COUNTIFS(Payments!$B$6:$B$5000,$A11,Payments!$G$6:$G$5000,"OK"))) | M11: =IF(AND($A11="",$B11="",$C11=""),"",IF($A11="","Fix: add a customer ID",IF(COUNTIF($A$11:$A$5000,$A11)>1,"Fix: duplicate customer ID",IF($B11="","Fix: add a name",IF($C11="","OK",IF(NOT(ISNUMBER($C11)),"Fix: next visit must be a date",IF(OR($C11<36526,$C11<>INT($C11)),"Fix: next visit must be a date","OK")))))))
D12: =IF($M12="","",IF($M12<>"OK","Check this row",IF($L12>0,"Check entries",IF(COUNTIF(Charges!$B$6:$B$5000,$A12)+COUNTIF(Payments!$B$6:$B$5000,$A12)=0,"No charges recorded",IF($E12<0,"Credit",IF($E12=0,"Clear",IF($F12>0,"Overdue",IF($G12>0,"Due today","Outstanding — not overdue")))))))) | E12: =IF($M12="","",IF(AND($M12="OK",$L12=0),ROUND($J12-$K12,2),"—")) | F12: =IF($M12="","",IF(AND($M12="OK",$L12=0),ROUND(MAX(0,ROUND(SUMIFS(Charges!$F$6:$F$5000,Charges!$B$6:$B$5000,$A12,Charges!$H$6:$H$5000,"OK",Charges!$E$6:$E$5000,"<"&AsOf),2)-$K12),2),"—")) | G12: =IF($M12="","",IF(AND($M12="OK",$L12=0),ROUND(MAX(0,ROUND(SUMIFS(Charges!$F$6:$F$5000,Charges!$B$6:$B$5000,$A12,Charges!$H$6:$H$5000,"OK",Charges!$E$6:$E$5000,"<="&AsOf),2)-$K12)-$F12,2),"—")) | H12: =IF($M12="","",IF($C12="","Not entered",IF($M12<>"OK","Check date",IF($C12<AsOf,"Date passed — update it",IF($C12<=AsOf+7,"Upcoming (next 7 days)","Later"))))) | I12: =IF(AND($D12="Overdue",$H12="Upcoming (next 7 days)"),"Review before next visit","") | J12: =IF($M12="","",ROUND(SUMIFS(Charges!$F$6:$F$5000,Charges!$B$6:$B$5000,$A12,Charges!$H$6:$H$5000,"OK"),2)) | K12: =IF($M12="","",ROUND(SUMIFS(Payments!$E$6:$E$5000,Payments!$B$6:$B$5000,$A12,Payments!$G$6:$G$5000,"OK"),2)) | L12: =IF($M12="","",(COUNTIF(Charges!$B$6:$B$5000,$A12)-COUNTIFS(Charges!$B$6:$B$5000,$A12,Charges!$H$6:$H$5000,"OK"))+(COUNTIF(Payments!$B$6:$B$5000,$A12)-COUNTIFS(Payments!$B$6:$B$5000,$A12,Payments!$G$6:$G$5000,"OK"))) | M12: =IF(AND($A12="",$B12="",$C12=""),"",IF($A12="","Fix: add a customer ID",IF(COUNTIF($A$11:$A$5000,$A12)>1,"Fix: duplicate customer ID",IF($B12="","Fix: add a name",IF($C12="","OK",IF(NOT(ISNUMBER($C12)),"Fix: next visit must be a date",IF(OR($C12<36526,$C12<>INT($C12)),"Fix: next visit must be a date","OK")))))))
D13: =IF($M13="","",IF($M13<>"OK","Check this row",IF($L13>0,"Check entries",IF(COUNTIF(Charges!$B$6:$B$5000,$A13)+COUNTIF(Payments!$B$6:$B$5000,$A13)=0,"No charges recorded",IF($E13<0,"Credit",IF($E13=0,"Clear",IF($F13>0,"Overdue",IF($G13>0,"Due today","Outstanding — not overdue")))))))) | E13: =IF($M13="","",IF(AND($M13="OK",$L13=0),ROUND($J13-$K13,2),"—")) | F13: =IF($M13="","",IF(AND($M13="OK",$L13=0),ROUND(MAX(0,ROUND(SUMIFS(Charges!$F$6:$F$5000,Charges!$B$6:$B$5000,$A13,Charges!$H$6:$H$5000,"OK",Charges!$E$6:$E$5000,"<"&AsOf),2)-$K13),2),"—")) | G13: =IF($M13="","",IF(AND($M13="OK",$L13=0),ROUND(MAX(0,ROUND(SUMIFS(Charges!$F$6:$F$5000,Charges!$B$6:$B$5000,$A13,Charges!$H$6:$H$5000,"OK",Charges!$E$6:$E$5000,"<="&AsOf),2)-$K13)-$F13,2),"—")) | H13: =IF($M13="","",IF($C13="","Not entered",IF($M13<>"OK","Check date",IF($C13<AsOf,"Date passed — update it",IF($C13<=AsOf+7,"Upcoming (next 7 days)","Later"))))) | I13: =IF(AND($D13="Overdue",$H13="Upcoming (next 7 days)"),"Review before next visit","") | J13: =IF($M13="","",ROUND(SUMIFS(Charges!$F$6:$F$5000,Charges!$B$6:$B$5000,$A13,Charges!$H$6:$H$5000,"OK"),2)) | K13: =IF($M13="","",ROUND(SUMIFS(Payments!$E$6:$E$5000,Payments!$B$6:$B$5000,$A13,Payments!$G$6:$G$5000,"OK"),2)) | L13: =IF($M13="","",(COUNTIF(Charges!$B$6:$B$5000,$A13)-COUNTIFS(Charges!$B$6:$B$5000,$A13,Charges!$H$6:$H$5000,"OK"))+(COUNTIF(Payments!$B$6:$B$5000,$A13)-COUNTIFS(Payments!$B$6:$B$5000,$A13,Payments!$G$6:$G$5000,"OK"))) | M13: =IF(AND($A13="",$B13="",$C13=""),"",IF($A13="","Fix: add a customer ID",IF(COUNTIF($A$11:$A$5000,$A13)>1,"Fix: duplicate customer ID",IF($B13="","Fix: add a name",IF($C13="","OK",IF(NOT(ISNUMBER($C13)),"Fix: next visit must be a date",IF(OR($C13<36526,$C13<>INT($C13)),"Fix: next visit must be a date","OK")))))))
D14: =IF($M14="","",IF($M14<>"OK","Check this row",IF($L14>0,"Check entries",IF(COUNTIF(Charges!$B$6:$B$5000,$A14)+COUNTIF(Payments!$B$6:$B$5000,$A14)=0,"No charges recorded",IF($E14<0,"Credit",IF($E14=0,"Clear",IF($F14>0,"Overdue",IF($G14>0,"Due today","Outstanding — not overdue")))))))) | E14: =IF($M14="","",IF(AND($M14="OK",$L14=0),ROUND($J14-$K14,2),"—")) | F14: =IF($M14="","",IF(AND($M14="OK",$L14=0),ROUND(MAX(0,ROUND(SUMIFS(Charges!$F$6:$F$5000,Charges!$B$6:$B$5000,$A14,Charges!$H$6:$H$5000,"OK",Charges!$E$6:$E$5000,"<"&AsOf),2)-$K14),2),"—")) | G14: =IF($M14="","",IF(AND($M14="OK",$L14=0),ROUND(MAX(0,ROUND(SUMIFS(Charges!$F$6:$F$5000,Charges!$B$6:$B$5000,$A14,Charges!$H$6:$H$5000,"OK",Charges!$E$6:$E$5000,"<="&AsOf),2)-$K14)-$F14,2),"—")) | H14: =IF($M14="","",IF($C14="","Not entered",IF($M14<>"OK","Check date",IF($C14<AsOf,"Date passed — update it",IF($C14<=AsOf+7,"Upcoming (next 7 days)","Later"))))) | I14: =IF(AND($D14="Overdue",$H14="Upcoming (next 7 days)"),"Review before next visit","") | J14: =IF($M14="","",ROUND(SUMIFS(Charges!$F$6:$F$5000,Charges!$B$6:$B$5000,$A14,Charges!$H$6:$H$5000,"OK"),2)) | K14: =IF($M14="","",ROUND(SUMIFS(Payments!$E$6:$E$5000,Payments!$B$6:$B$5000,$A14,Payments!$G$6:$G$5000,"OK"),2)) | L14: =IF($M14="","",(COUNTIF(Charges!$B$6:$B$5000,$A14)-COUNTIFS(Charges!$B$6:$B$5000,$A14,Charges!$H$6:$H$5000,"OK"))+(COUNTIF(Payments!$B$6:$B$5000,$A14)-COUNTIFS(Payments!$B$6:$B$5000,$A14,Payments!$G$6:$G$5000,"OK"))) | M14: =IF(AND($A14="",$B14="",$C14=""),"",IF($A14="","Fix: add a customer ID",IF(COUNTIF($A$11:$A$5000,$A14)>1,"Fix: duplicate customer ID",IF($B14="","Fix: add a name",IF($C14="","OK",IF(NOT(ISNUMBER($C14)),"Fix: next visit must be a date",IF(OR($C14<36526,$C14<>INT($C14)),"Fix: next visit must be a date","OK")))))))
D15: =IF($M15="","",IF($M15<>"OK","Check this row",IF($L15>0,"Check entries",IF(COUNTIF(Charges!$B$6:$B$5000,$A15)+COUNTIF(Payments!$B$6:$B$5000,$A15)=0,"No charges recorded",IF($E15<0,"Credit",IF($E15=0,"Clear",IF($F15>0,"Overdue",IF($G15>0,"Due today","Outstanding — not overdue")))))))) | E15: =IF($M15="","",IF(AND($M15="OK",$L15=0),ROUND($J15-$K15,2),"—")) | F15: =IF($M15="","",IF(AND($M15="OK",$L15=0),ROUND(MAX(0,ROUND(SUMIFS(Charges!$F$6:$F$5000,Charges!$B$6:$B$5000,$A15,Charges!$H$6:$H$5000,"OK",Charges!$E$6:$E$5000,"<"&AsOf),2)-$K15),2),"—")) | G15: =IF($M15="","",IF(AND($M15="OK",$L15=0),ROUND(MAX(0,ROUND(SUMIFS(Charges!$F$6:$F$5000,Charges!$B$6:$B$5000,$A15,Charges!$H$6:$H$5000,"OK",Charges!$E$6:$E$5000,"<="&AsOf),2)-$K15)-$F15,2),"—")) | H15: =IF($M15="","",IF($C15="","Not entered",IF($M15<>"OK","Check date",IF($C15<AsOf,"Date passed — update it",IF($C15<=AsOf+7,"Upcoming (next 7 days)","Later"))))) | I15: =IF(AND($D15="Overdue",$H15="Upcoming (next 7 days)"),"Review before next visit","") | J15: =IF($M15="","",ROUND(SUMIFS(Charges!$F$6:$F$5000,Charges!$B$6:$B$5000,$A15,Charges!$H$6:$H$5000,"OK"),2)) | K15: =IF($M15="","",ROUND(SUMIFS(Payments!$E$6:$E$5000,Payments!$B$6:$B$5000,$A15,Payments!$G$6:$G$5000,"OK"),2)) | L15: =IF($M15="","",(COUNTIF(Charges!$B$6:$B$5000,$A15)-COUNTIFS(Charges!$B$6:$B$5000,$A15,Charges!$H$6:$H$5000,"OK"))+(COUNTIF(Payments!$B$6:$B$5000,$A15)-COUNTIFS(Payments!$B$6:$B$5000,$A15,Payments!$G$6:$G$5000,"OK"))) | M15: =IF(AND($A15="",$B15="",$C15=""),"",IF($A15="","Fix: add a customer ID",IF(COUNTIF($A$11:$A$5000,$A15)>1,"Fix: duplicate customer ID",IF($B15="","Fix: add a name",IF($C15="","OK",IF(NOT(ISNUMBER($C15)),"Fix: next visit must be a date",IF(OR($C15<36526,$C15<>INT($C15)),"Fix: next visit must be a date","OK")))))))
D16: =IF($M16="","",IF($M16<>"OK","Check this row",IF($L16>0,"Check entries",IF(COUNTIF(Charges!$B$6:$B$5000,$A16)+COUNTIF(Payments!$B$6:$B$5000,$A16)=0,"No charges recorded",IF($E16<0,"Credit",IF($E16=0,"Clear",IF($F16>0,"Overdue",IF($G16>0,"Due today","Outstanding — not overdue")))))))) | E16: =IF($M16="","",IF(AND($M16="OK",$L16=0),ROUND($J16-$K16,2),"—")) | F16: =IF($M16="","",IF(AND($M16="OK",$L16=0),ROUND(MAX(0,ROUND(SUMIFS(Charges!$F$6:$F$5000,Charges!$B$6:$B$5000,$A16,Charges!$H$6:$H$5000,"OK",Charges!$E$6:$E$5000,"<"&AsOf),2)-$K16),2),"—")) | G16: =IF($M16="","",IF(AND($M16="OK",$L16=0),ROUND(MAX(0,ROUND(SUMIFS(Charges!$F$6:$F$5000,Charges!$B$6:$B$5000,$A16,Charges!$H$6:$H$5000,"OK",Charges!$E$6:$E$5000,"<="&AsOf),2)-$K16)-$F16,2),"—")) | H16: =IF($M16="","",IF($C16="","Not entered",IF($M16<>"OK","Check date",IF($C16<AsOf,"Date passed — update it",IF($C16<=AsOf+7,"Upcoming (next 7 days)","Later"))))) | I16: =IF(AND($D16="Overdue",$H16="Upcoming (next 7 days)"),"Review before next visit","") | J16: =IF($M16="","",ROUND(SUMIFS(Charges!$F$6:$F$5000,Charges!$B$6:$B$5000,$A16,Charges!$H$6:$H$5000,"OK"),2)) | K16: =IF($M16="","",ROUND(SUMIFS(Payments!$E$6:$E$5000,Payments!$B$6:$B$5000,$A16,Payments!$G$6:$G$5000,"OK"),2)) | L16: =IF($M16="","",(COUNTIF(Charges!$B$6:$B$5000,$A16)-COUNTIFS(Charges!$B$6:$B$5000,$A16,Charges!$H$6:$H$5000,"OK"))+(COUNTIF(Payments!$B$6:$B$5000,$A16)-COUNTIFS(Payments!$B$6:$B$5000,$A16,Payments!$G$6:$G$5000,"OK"))) | M16: =IF(AND($A16="",$B16="",$C16=""),"",IF($A16="","Fix: add a customer ID",IF(COUNTIF($A$11:$A$5000,$A16)>1,"Fix: duplicate customer ID",IF($B16="","Fix: add a name",IF($C16="","OK",IF(NOT(ISNUMBER($C16)),"Fix: next visit must be a date",IF(OR($C16<36526,$C16<>INT($C16)),"Fix: next visit must be a date","OK")))))))
D17: =IF($M17="","",IF($M17<>"OK","Check this row",IF($L17>0,"Check entries",IF(COUNTIF(Charges!$B$6:$B$5000,$A17)+COUNTIF(Payments!$B$6:$B$5000,$A17)=0,"No charges recorded",IF($E17<0,"Credit",IF($E17=0,"Clear",IF($F17>0,"Overdue",IF($G17>0,"Due today","Outstanding — not overdue")))))))) | E17: =IF($M17="","",IF(AND($M17="OK",$L17=0),ROUND($J17-$K17,2),"—")) | F17: =IF($M17="","",IF(AND($M17="OK",$L17=0),ROUND(MAX(0,ROUND(SUMIFS(Charges!$F$6:$F$5000,Charges!$B$6:$B$5000,$A17,Charges!$H$6:$H$5000,"OK",Charges!$E$6:$E$5000,"<"&AsOf),2)-$K17),2),"—")) | G17: =IF($M17="","",IF(AND($M17="OK",$L17=0),ROUND(MAX(0,ROUND(SUMIFS(Charges!$F$6:$F$5000,Charges!$B$6:$B$5000,$A17,Charges!$H$6:$H$5000,"OK",Charges!$E$6:$E$5000,"<="&AsOf),2)-$K17)-$F17,2),"—")) | H17: =IF($M17="","",IF($C17="","Not entered",IF($M17<>"OK","Check date",IF($C17<AsOf,"Date passed — update it",IF($C17<=AsOf+7,"Upcoming (next 7 days)","Later"))))) | I17: =IF(AND($D17="Overdue",$H17="Upcoming (next 7 days)"),"Review before next visit","") | J17: =IF($M17="","",ROUND(SUMIFS(Charges!$F$6:$F$5000,Charges!$B$6:$B$5000,$A17,Charges!$H$6:$H$5000,"OK"),2)) | K17: =IF($M17="","",ROUND(SUMIFS(Payments!$E$6:$E$5000,Payments!$B$6:$B$5000,$A17,Payments!$G$6:$G$5000,"OK"),2)) | L17: =IF($M17="","",(COUNTIF(Charges!$B$6:$B$5000,$A17)-COUNTIFS(Charges!$B$6:$B$5000,$A17,Charges!$H$6:$H$5000,"OK"))+(COUNTIF(Payments!$B$6:$B$5000,$A17)-COUNTIFS(Payments!$B$6:$B$5000,$A17,Payments!$G$6:$G$5000,"OK"))) | M17: =IF(AND($A17="",$B17="",$C17=""),"",IF($A17="","Fix: add a customer ID",IF(COUNTIF($A$11:$A$5000,$A17)>1,"Fix: duplicate customer ID",IF($B17="","Fix: add a name",IF($C17="","OK",IF(NOT(ISNUMBER($C17)),"Fix: next visit must be a date",IF(OR($C17<36526,$C17<>INT($C17)),"Fix: next visit must be a date","OK")))))))
D18: =IF($M18="","",IF($M18<>"OK","Check this row",IF($L18>0,"Check entries",IF(COUNTIF(Charges!$B$6:$B$5000,$A18)+COUNTIF(Payments!$B$6:$B$5000,$A18)=0,"No charges recorded",IF($E18<0,"Credit",IF($E18=0,"Clear",IF($F18>0,"Overdue",IF($G18>0,"Due today","Outstanding — not overdue")))))))) | E18: =IF($M18="","",IF(AND($M18="OK",$L18=0),ROUND($J18-$K18,2),"—")) | F18: =IF($M18="","",IF(AND($M18="OK",$L18=0),ROUND(MAX(0,ROUND(SUMIFS(Charges!$F$6:$F$5000,Charges!$B$6:$B$5000,$A18,Charges!$H$6:$H$5000,"OK",Charges!$E$6:$E$5000,"<"&AsOf),2)-$K18),2),"—")) | G18: =IF($M18="","",IF(AND($M18="OK",$L18=0),ROUND(MAX(0,ROUND(SUMIFS(Charges!$F$6:$F$5000,Charges!$B$6:$B$5000,$A18,Charges!$H$6:$H$5000,"OK",Charges!$E$6:$E$5000,"<="&AsOf),2)-$K18)-$F18,2),"—")) | H18: =IF($M18="","",IF($C18="","Not entered",IF($M18<>"OK","Check date",IF($C18<AsOf,"Date passed — update it",IF($C18<=AsOf+7,"Upcoming (next 7 days)","Later"))))) | I18: =IF(AND($D18="Overdue",$H18="Upcoming (next 7 days)"),"Review before next visit","") | J18: =IF($M18="","",ROUND(SUMIFS(Charges!$F$6:$F$5000,Charges!$B$6:$B$5000,$A18,Charges!$H$6:$H$5000,"OK"),2)) | K18: =IF($M18="","",ROUND(SUMIFS(Payments!$E$6:$E$5000,Payments!$B$6:$B$5000,$A18,Payments!$G$6:$G$5000,"OK"),2)) | L18: =IF($M18="","",(COUNTIF(Charges!$B$6:$B$5000,$A18)-COUNTIFS(Charges!$B$6:$B$5000,$A18,Charges!$H$6:$H$5000,"OK"))+(COUNTIF(Payments!$B$6:$B$5000,$A18)-COUNTIFS(Payments!$B$6:$B$5000,$A18,Payments!$G$6:$G$5000,"OK"))) | M18: =IF(AND($A18="",$B18="",$C18=""),"",IF($A18="","Fix: add a customer ID",IF(COUNTIF($A$11:$A$5000,$A18)>1,"Fix: duplicate customer ID",IF($B18="","Fix: add a name",IF($C18="","OK",IF(NOT(ISNUMBER($C18)),"Fix: next visit must be a date",IF(OR($C18<36526,$C18<>INT($C18)),"Fix: next visit must be a date","OK")))))))
D19: =IF($M19="","",IF($M19<>"OK","Check this row",IF($L19>0,"Check entries",IF(COUNTIF(Charges!$B$6:$B$5000,$A19)+COUNTIF(Payments!$B$6:$B$5000,$A19)=0,"No charges recorded",IF($E19<0,"Credit",IF($E19=0,"Clear",IF($F19>0,"Overdue",IF($G19>0,"Due today","Outstanding — not overdue")))))))) | E19: =IF($M19="","",IF(AND($M19="OK",$L19=0),ROUND($J19-$K19,2),"—")) | F19: =IF($M19="","",IF(AND($M19="OK",$L19=0),ROUND(MAX(0,ROUND(SUMIFS(Charges!$F$6:$F$5000,Charges!$B$6:$B$5000,$A19,Charges!$H$6:$H$5000,"OK",Charges!$E$6:$E$5000,"<"&AsOf),2)-$K19),2),"—")) | G19: =IF($M19="","",IF(AND($M19="OK",$L19=0),ROUND(MAX(0,ROUND(SUMIFS(Charges!$F$6:$F$5000,Charges!$B$6:$B$5000,$A19,Charges!$H$6:$H$5000,"OK",Charges!$E$6:$E$5000,"<="&AsOf),2)-$K19)-$F19,2),"—")) | H19: =IF($M19="","",IF($C19="","Not entered",IF($M19<>"OK","Check date",IF($C19<AsOf,"Date passed — update it",IF($C19<=AsOf+7,"Upcoming (next 7 days)","Later"))))) | I19: =IF(AND($D19="Overdue",$H19="Upcoming (next 7 days)"),"Review before next visit","") | J19: =IF($M19="","",ROUND(SUMIFS(Charges!$F$6:$F$5000,Charges!$B$6:$B$5000,$A19,Charges!$H$6:$H$5000,"OK"),2)) | K19: =IF($M19="","",ROUND(SUMIFS(Payments!$E$6:$E$5000,Payments!$B$6:$B$5000,$A19,Payments!$G$6:$G$5000,"OK"),2)) | L19: =IF($M19="","",(COUNTIF(Charges!$B$6:$B$5000,$A19)-COUNTIFS(Charges!$B$6:$B$5000,$A19,Charges!$H$6:$H$5000,"OK"))+(COUNTIF(Payments!$B$6:$B$5000,$A19)-COUNTIFS(Payments!$B$6:$B$5000,$A19,Payments!$G$6:$G$5000,"OK"))) | M19: =IF(AND($A19="",$B19="",$C19=""),"",IF($A19="","Fix: add a customer ID",IF(COUNTIF($A$11:$A$5000,$A19)>1,"Fix: duplicate customer ID",IF($B19="","Fix: add a name",IF($C19="","OK",IF(NOT(ISNUMBER($C19)),"Fix: next visit must be a date",IF(OR($C19<36526,$C19<>INT($C19)),"Fix: next visit must be a date","OK")))))))
D20: =IF($M20="","",IF($M20<>"OK","Check this row",IF($L20>0,"Check entries",IF(COUNTIF(Charges!$B$6:$B$5000,$A20)+COUNTIF(Payments!$B$6:$B$5000,$A20)=0,"No charges recorded",IF($E20<0,"Credit",IF($E20=0,"Clear",IF($F20>0,"Overdue",IF($G20>0,"Due today","Outstanding — not overdue")))))))) | E20: =IF($M20="","",IF(AND($M20="OK",$L20=0),ROUND($J20-$K20,2),"—")) | F20: =IF($M20="","",IF(AND($M20="OK",$L20=0),ROUND(MAX(0,ROUND(SUMIFS(Charges!$F$6:$F$5000,Charges!$B$6:$B$5000,$A20,Charges!$H$6:$H$5000,"OK",Charges!$E$6:$E$5000,"<"&AsOf),2)-$K20),2),"—")) | G20: =IF($M20="","",IF(AND($M20="OK",$L20=0),ROUND(MAX(0,ROUND(SUMIFS(Charges!$F$6:$F$5000,Charges!$B$6:$B$5000,$A20,Charges!$H$6:$H$5000,"OK",Charges!$E$6:$E$5000,"<="&AsOf),2)-$K20)-$F20,2),"—")) | H20: =IF($M20="","",IF($C20="","Not entered",IF($M20<>"OK","Check date",IF($C20<AsOf,"Date passed — update it",IF($C20<=AsOf+7,"Upcoming (next 7 days)","Later"))))) | I20: =IF(AND($D20="Overdue",$H20="Upcoming (next 7 days)"),"Review before next visit","") | J20: =IF($M20="","",ROUND(SUMIFS(Charges!$F$6:$F$5000,Charges!$B$6:$B$5000,$A20,Charges!$H$6:$H$5000,"OK"),2)) | K20: =IF($M20="","",ROUND(SUMIFS(Payments!$E$6:$E$5000,Payments!$B$6:$B$5000,$A20,Payments!$G$6:$G$5000,"OK"),2)) | L20: =IF($M20="","",(COUNTIF(Charges!$B$6:$B$5000,$A20)-COUNTIFS(Charges!$B$6:$B$5000,$A20,Charges!$H$6:$H$5000,"OK"))+(COUNTIF(Payments!$B$6:$B$5000,$A20)-COUNTIFS(Payments!$B$6:$B$5000,$A20,Payments!$G$6:$G$5000,"OK"))) | M20: =IF(AND($A20="",$B20="",$C20=""),"",IF($A20="","Fix: add a customer ID",IF(COUNTIF($A$11:$A$5000,$A20)>1,"Fix: duplicate customer ID",IF($B20="","Fix: add a name",IF($C20="","OK",IF(NOT(ISNUMBER($C20)),"Fix: next visit must be a date",IF(OR($C20<36526,$C20<>INT($C20)),"Fix: next visit must be a date","OK")))))))
D21: =IF($M21="","",IF($M21<>"OK","Check this row",IF($L21>0,"Check entries",IF(COUNTIF(Charges!$B$6:$B$5000,$A21)+COUNTIF(Payments!$B$6:$B$5000,$A21)=0,"No charges recorded",IF($E21<0,"Credit",IF($E21=0,"Clear",IF($F21>0,"Overdue",IF($G21>0,"Due today","Outstanding — not overdue")))))))) | E21: =IF($M21="","",IF(AND($M21="OK",$L21=0),ROUND($J21-$K21,2),"—")) | F21: =IF($M21="","",IF(AND($M21="OK",$L21=0),ROUND(MAX(0,ROUND(SUMIFS(Charges!$F$6:$F$5000,Charges!$B$6:$B$5000,$A21,Charges!$H$6:$H$5000,"OK",Charges!$E$6:$E$5000,"<"&AsOf),2)-$K21),2),"—")) | G21: =IF($M21="","",IF(AND($M21="OK",$L21=0),ROUND(MAX(0,ROUND(SUMIFS(Charges!$F$6:$F$5000,Charges!$B$6:$B$5000,$A21,Charges!$H$6:$H$5000,"OK",Charges!$E$6:$E$5000,"<="&AsOf),2)-$K21)-$F21,2),"—")) | H21: =IF($M21="","",IF($C21="","Not entered",IF($M21<>"OK","Check date",IF($C21<AsOf,"Date passed — update it",IF($C21<=AsOf+7,"Upcoming (next 7 days)","Later"))))) | I21: =IF(AND($D21="Overdue",$H21="Upcoming (next 7 days)"),"Review before next visit","") | J21: =IF($M21="","",ROUND(SUMIFS(Charges!$F$6:$F$5000,Charges!$B$6:$B$5000,$A21,Charges!$H$6:$H$5000,"OK"),2)) | K21: =IF($M21="","",ROUND(SUMIFS(Payments!$E$6:$E$5000,Payments!$B$6:$B$5000,$A21,Payments!$G$6:$G$5000,"OK"),2)) | L21: =IF($M21="","",(COUNTIF(Charges!$B$6:$B$5000,$A21)-COUNTIFS(Charges!$B$6:$B$5000,$A21,Charges!$H$6:$H$5000,"OK"))+(COUNTIF(Payments!$B$6:$B$5000,$A21)-COUNTIFS(Payments!$B$6:$B$5000,$A21,Payments!$G$6:$G$5000,"OK"))) | M21: =IF(AND($A21="",$B21="",$C21=""),"",IF($A21="","Fix: add a customer ID",IF(COUNTIF($A$11:$A$5000,$A21)>1,"Fix: duplicate customer ID",IF($B21="","Fix: add a name",IF($C21="","OK",IF(NOT(ISNUMBER($C21)),"Fix: next visit must be a date",IF(OR($C21<36526,$C21<>INT($C21)),"Fix: next visit must be a date","OK")))))))
D22: =IF($M22="","",IF($M22<>"OK","Check this row",IF($L22>0,"Check entries",IF(COUNTIF(Charges!$B$6:$B$5000,$A22)+COUNTIF(Payments!$B$6:$B$5000,$A22)=0,"No charges recorded",IF($E22<0,"Credit",IF($E22=0,"Clear",IF($F22>0,"Overdue",IF($G22>0,"Due today","Outstanding — not overdue")))))))) | E22: =IF($M22="","",IF(AND($M22="OK",$L22=0),ROUND($J22-$K22,2),"—")) | F22: =IF($M22="","",IF(AND($M22="OK",$L22=0),ROUND(MAX(0,ROUND(SUMIFS(Charges!$F$6:$F$5000,Charges!$B$6:$B$5000,$A22,Charges!$H$6:$H$5000,"OK",Charges!$E$6:$E$5000,"<"&AsOf),2)-$K22),2),"—")) | G22: =IF($M22="","",IF(AND($M22="OK",$L22=0),ROUND(MAX(0,ROUND(SUMIFS(Charges!$F$6:$F$5000,Charges!$B$6:$B$5000,$A22,Charges!$H$6:$H$5000,"OK",Charges!$E$6:$E$5000,"<="&AsOf),2)-$K22)-$F22,2),"—")) | H22: =IF($M22="","",IF($C22="","Not entered",IF($M22<>"OK","Check date",IF($C22<AsOf,"Date passed — update it",IF($C22<=AsOf+7,"Upcoming (next 7 days)","Later"))))) | I22: =IF(AND($D22="Overdue",$H22="Upcoming (next 7 days)"),"Review before next visit","") | J22: =IF($M22="","",ROUND(SUMIFS(Charges!$F$6:$F$5000,Charges!$B$6:$B$5000,$A22,Charges!$H$6:$H$5000,"OK"),2)) | K22: =IF($M22="","",ROUND(SUMIFS(Payments!$E$6:$E$5000,Payments!$B$6:$B$5000,$A22,Payments!$G$6:$G$5000,"OK"),2)) | L22: =IF($M22="","",(COUNTIF(Charges!$B$6:$B$5000,$A22)-COUNTIFS(Charges!$B$6:$B$5000,$A22,Charges!$H$6:$H$5000,"OK"))+(COUNTIF(Payments!$B$6:$B$5000,$A22)-COUNTIFS(Payments!$B$6:$B$5000,$A22,Payments!$G$6:$G$5000,"OK"))) | M22: =IF(AND($A22="",$B22="",$C22=""),"",IF($A22="","Fix: add a customer ID",IF(COUNTIF($A$11:$A$5000,$A22)>1,"Fix: duplicate customer ID",IF($B22="","Fix: add a name",IF($C22="","OK",IF(NOT(ISNUMBER($C22)),"Fix: next visit must be a date",IF(OR($C22<36526,$C22<>INT($C22)),"Fix: next visit must be a date","OK")))))))
... D310: =IF($M310="","",IF($M310<>"OK","Check this row",IF($L310>0,"Check entries",IF(COUNTIF(Charges!$B$6:$B$5000,$A310)+COUNTIF(Payments!$B$6:$B$5000,$A310)=0,"No charges recorded",IF($E310<0,"Credit",IF($E310=0,"Clear",IF($F310>0,"Overdue",IF($G310>0,"Due today","Outstanding — not overdue")))))))) | E310: =IF($M310="","",IF(AND($M310="OK",$L310=0),ROUND($J310-$K310,2),"—")) | F310: =IF($M310="","",IF(AND($M310="OK",$L310=0),ROUND(MAX(0,ROUND(SUMIFS(Charges!$F$6:$F$5000,Charges!$B$6:$B$5000,$A310,Charges!$H$6:$H$5000,"OK",Charges!$E$6:$E$5000,"<"&AsOf),2)-$K310),2),"—")) | G310: =IF($M310="","",IF(AND($M310="OK",$L310=0),ROUND(MAX(0,ROUND(SUMIFS(Charges!$F$6:$F$5000,Charges!$B$6:$B$5000,$A310,Charges!$H$6:$H$5000,"OK",Charges!$E$6:$E$5000,"<="&AsOf),2)-$K310)-$F310,2),"—")) | H310: =IF($M310="","",IF($C310="","Not entered",IF($M310<>"OK","Check date",IF($C310<AsOf,"Date passed — update it",IF($C310<=AsOf+7,"Upcoming (next 7 days)","Later"))))) | I310: =IF(AND($D310="Overdue",$H310="Upcoming (next 7 days)"),"Review before next visit","") | J310: =IF($M310="","",ROUND(SUMIFS(Charges!$F$6:$F$5000,Charges!$B$6:$B$5000,$A310,Charges!$H$6:$H$5000,"OK"),2)) | K310: =IF($M310="","",ROUND(SUMIFS(Payments!$E$6:$E$5000,Payments!$B$6:$B$5000,$A310,Payments!$G$6:$G$5000,"OK"),2)) | L310: =IF($M310="","",(COUNTIF(Charges!$B$6:$B$5000,$A310)-COUNTIFS(Charges!$B$6:$B$5000,$A310,Charges!$H$6:$H$5000,"OK"))+(COUNTIF(Payments!$B$6:$B$5000,$A310)-COUNTIFS(Payments!$B$6:$B$5000,$A310,Payments!$G$6:$G$5000,"OK"))) | M310: =IF(AND($A310="",$B310="",$C310=""),"",IF($A310="","Fix: add a customer ID",IF(COUNTIF($A$11:$A$5000,$A310)>1,"Fix: duplicate customer ID",IF($B310="","Fix: add a name",IF($C310="","OK",IF(NOT(ISNUMBER($C310)),"Fix: next visit must be a date",IF(OR($C310<36526,$C310<>INT($C310)),"Fix: next visit must be a date","OK")))))))

Sheet Charges
A1: Charges
A2: One row per bill you've already sent. Give each row its own Charge ID (e.g. CH-001) and pick the Customer ID from the list. Setting up? Enter what's unpaid right now as an opening charge with its real due date, and don't enter payments already taken off it. This records bills; it doesn't create or send them.
A3: =IF(SUMPRODUCT(--(LEFT(Charges!$H$6:$H$5000,4)="Fix:"))=0,"All rows check out.","⚠ "&SUMPRODUCT(--(LEFT(Charges!$H$6:$H$5000,4)="Fix:"))&" row(s) need fixing. They aren't counted in any total until fixed.") -> All rows check out.
A5: Charge ID | B5: Customer ID | C5: Customer | D5: Charge date | E5: Due date | F5: Amount | G5: Invoice / reference | H5: Check
C6: =IF($B6="","",IFERROR(INDEX(Customers!$B$11:$B$5000,MATCH($B6,Customers!$A$11:$A$5000,0)),"Unknown ID")) | H6: =IF(AND($A6="",$B6="",$D6="",$E6="",$F6="",$G6=""),"",IF($A6="","Fix: add a charge ID",IF(COUNTIF($A$6:$A$5000,$A6)+COUNTIF(Payments!$A$6:$A$5000,$A6)>1,"Fix: duplicate ID",IF($B6="","Fix: choose a customer ID",IF(COUNTIF(Customers!$A$11:$A$5000,$B6)=0,"Fix: unknown customer ID",IF(COUNTIF(Customers!$A$11:$A$5000,$B6)>1,"Fix: customer ID used twice on Customers",IF(NOT(ISNUMBER($D6)),"Fix: charge date",IF(OR($D6<36526,$D6<>INT($D6)),"Fix: charge date",IF($D6>AsOf,"Fix: charge date is after the as-of date",IF(NOT(ISNUMBER($E6)),"Fix: due date",IF(OR($E6<36526,$E6<>INT($E6)),"Fix: due date",IF($E6<$D6,"Fix: due date is before the charge date",IF(NOT(ISNUMBER($F6)),"Fix: amount must be a number",IF($F6<=0,"Fix: amount must be more than 0",IF(ROUND($F6,2)<>$F6,"Fix: amount in dollars and cents",IF($F6>999999.99,"Fix: amount too large","OK"))))))))))))))))
C7: =IF($B7="","",IFERROR(INDEX(Customers!$B$11:$B$5000,MATCH($B7,Customers!$A$11:$A$5000,0)),"Unknown ID")) | H7: =IF(AND($A7="",$B7="",$D7="",$E7="",$F7="",$G7=""),"",IF($A7="","Fix: add a charge ID",IF(COUNTIF($A$6:$A$5000,$A7)+COUNTIF(Payments!$A$6:$A$5000,$A7)>1,"Fix: duplicate ID",IF($B7="","Fix: choose a customer ID",IF(COUNTIF(Customers!$A$11:$A$5000,$B7)=0,"Fix: unknown customer ID",IF(COUNTIF(Customers!$A$11:$A$5000,$B7)>1,"Fix: customer ID used twice on Customers",IF(NOT(ISNUMBER($D7)),"Fix: charge date",IF(OR($D7<36526,$D7<>INT($D7)),"Fix: charge date",IF($D7>AsOf,"Fix: charge date is after the as-of date",IF(NOT(ISNUMBER($E7)),"Fix: due date",IF(OR($E7<36526,$E7<>INT($E7)),"Fix: due date",IF($E7<$D7,"Fix: due date is before the charge date",IF(NOT(ISNUMBER($F7)),"Fix: amount must be a number",IF($F7<=0,"Fix: amount must be more than 0",IF(ROUND($F7,2)<>$F7,"Fix: amount in dollars and cents",IF($F7>999999.99,"Fix: amount too large","OK"))))))))))))))))
C8: =IF($B8="","",IFERROR(INDEX(Customers!$B$11:$B$5000,MATCH($B8,Customers!$A$11:$A$5000,0)),"Unknown ID")) | H8: =IF(AND($A8="",$B8="",$D8="",$E8="",$F8="",$G8=""),"",IF($A8="","Fix: add a charge ID",IF(COUNTIF($A$6:$A$5000,$A8)+COUNTIF(Payments!$A$6:$A$5000,$A8)>1,"Fix: duplicate ID",IF($B8="","Fix: choose a customer ID",IF(COUNTIF(Customers!$A$11:$A$5000,$B8)=0,"Fix: unknown customer ID",IF(COUNTIF(Customers!$A$11:$A$5000,$B8)>1,"Fix: customer ID used twice on Customers",IF(NOT(ISNUMBER($D8)),"Fix: charge date",IF(OR($D8<36526,$D8<>INT($D8)),"Fix: charge date",IF($D8>AsOf,"Fix: charge date is after the as-of date",IF(NOT(ISNUMBER($E8)),"Fix: due date",IF(OR($E8<36526,$E8<>INT($E8)),"Fix: due date",IF($E8<$D8,"Fix: due date is before the charge date",IF(NOT(ISNUMBER($F8)),"Fix: amount must be a number",IF($F8<=0,"Fix: amount must be more than 0",IF(ROUND($F8,2)<>$F8,"Fix: amount in dollars and cents",IF($F8>999999.99,"Fix: amount too large","OK"))))))))))))))))
C9: =IF($B9="","",IFERROR(INDEX(Customers!$B$11:$B$5000,MATCH($B9,Customers!$A$11:$A$5000,0)),"Unknown ID")) | H9: =IF(AND($A9="",$B9="",$D9="",$E9="",$F9="",$G9=""),"",IF($A9="","Fix: add a charge ID",IF(COUNTIF($A$6:$A$5000,$A9)+COUNTIF(Payments!$A$6:$A$5000,$A9)>1,"Fix: duplicate ID",IF($B9="","Fix: choose a customer ID",IF(COUNTIF(Customers!$A$11:$A$5000,$B9)=0,"Fix: unknown customer ID",IF(COUNTIF(Customers!$A$11:$A$5000,$B9)>1,"Fix: customer ID used twice on Customers",IF(NOT(ISNUMBER($D9)),"Fix: charge date",IF(OR($D9<36526,$D9<>INT($D9)),"Fix: charge date",IF($D9>AsOf,"Fix: charge date is after the as-of date",IF(NOT(ISNUMBER($E9)),"Fix: due date",IF(OR($E9<36526,$E9<>INT($E9)),"Fix: due date",IF($E9<$D9,"Fix: due date is before the charge date",IF(NOT(ISNUMBER($F9)),"Fix: amount must be a number",IF($F9<=0,"Fix: amount must be more than 0",IF(ROUND($F9,2)<>$F9,"Fix: amount in dollars and cents",IF($F9>999999.99,"Fix: amount too large","OK"))))))))))))))))
C10: =IF($B10="","",IFERROR(INDEX(Customers!$B$11:$B$5000,MATCH($B10,Customers!$A$11:$A$5000,0)),"Unknown ID")) | H10: =IF(AND($A10="",$B10="",$D10="",$E10="",$F10="",$G10=""),"",IF($A10="","Fix: add a charge ID",IF(COUNTIF($A$6:$A$5000,$A10)+COUNTIF(Payments!$A$6:$A$5000,$A10)>1,"Fix: duplicate ID",IF($B10="","Fix: choose a customer ID",IF(COUNTIF(Customers!$A$11:$A$5000,$B10)=0,"Fix: unknown customer ID",IF(COUNTIF(Customers!$A$11:$A$5000,$B10)>1,"Fix: customer ID used twice on Customers",IF(NOT(ISNUMBER($D10)),"Fix: charge date",IF(OR($D10<36526,$D10<>INT($D10)),"Fix: charge date",IF($D10>AsOf,"Fix: charge date is after the as-of date",IF(NOT(ISNUMBER($E10)),"Fix: due date",IF(OR($E10<36526,$E10<>INT($E10)),"Fix: due date",IF($E10<$D10,"Fix: due date is before the charge date",IF(NOT(ISNUMBER($F10)),"Fix: amount must be a number",IF($F10<=0,"Fix: amount must be more than 0",IF(ROUND($F10,2)<>$F10,"Fix: amount in dollars and cents",IF($F10>999999.99,"Fix: amount too large","OK"))))))))))))))))
C11: =IF($B11="","",IFERROR(INDEX(Customers!$B$11:$B$5000,MATCH($B11,Customers!$A$11:$A$5000,0)),"Unknown ID")) | H11: =IF(AND($A11="",$B11="",$D11="",$E11="",$F11="",$G11=""),"",IF($A11="","Fix: add a charge ID",IF(COUNTIF($A$6:$A$5000,$A11)+COUNTIF(Payments!$A$6:$A$5000,$A11)>1,"Fix: duplicate ID",IF($B11="","Fix: choose a customer ID",IF(COUNTIF(Customers!$A$11:$A$5000,$B11)=0,"Fix: unknown customer ID",IF(COUNTIF(Customers!$A$11:$A$5000,$B11)>1,"Fix: customer ID used twice on Customers",IF(NOT(ISNUMBER($D11)),"Fix: charge date",IF(OR($D11<36526,$D11<>INT($D11)),"Fix: charge date",IF($D11>AsOf,"Fix: charge date is after the as-of date",IF(NOT(ISNUMBER($E11)),"Fix: due date",IF(OR($E11<36526,$E11<>INT($E11)),"Fix: due date",IF($E11<$D11,"Fix: due date is before the charge date",IF(NOT(ISNUMBER($F11)),"Fix: amount must be a number",IF($F11<=0,"Fix: amount must be more than 0",IF(ROUND($F11,2)<>$F11,"Fix: amount in dollars and cents",IF($F11>999999.99,"Fix: amount too large","OK"))))))))))))))))
C12: =IF($B12="","",IFERROR(INDEX(Customers!$B$11:$B$5000,MATCH($B12,Customers!$A$11:$A$5000,0)),"Unknown ID")) | H12: =IF(AND($A12="",$B12="",$D12="",$E12="",$F12="",$G12=""),"",IF($A12="","Fix: add a charge ID",IF(COUNTIF($A$6:$A$5000,$A12)+COUNTIF(Payments!$A$6:$A$5000,$A12)>1,"Fix: duplicate ID",IF($B12="","Fix: choose a customer ID",IF(COUNTIF(Customers!$A$11:$A$5000,$B12)=0,"Fix: unknown customer ID",IF(COUNTIF(Customers!$A$11:$A$5000,$B12)>1,"Fix: customer ID used twice on Customers",IF(NOT(ISNUMBER($D12)),"Fix: charge date",IF(OR($D12<36526,$D12<>INT($D12)),"Fix: charge date",IF($D12>AsOf,"Fix: charge date is after the as-of date",IF(NOT(ISNUMBER($E12)),"Fix: due date",IF(OR($E12<36526,$E12<>INT($E12)),"Fix: due date",IF($E12<$D12,"Fix: due date is before the charge date",IF(NOT(ISNUMBER($F12)),"Fix: amount must be a number",IF($F12<=0,"Fix: amount must be more than 0",IF(ROUND($F12,2)<>$F12,"Fix: amount in dollars and cents",IF($F12>999999.99,"Fix: amount too large","OK"))))))))))))))))
C13: =IF($B13="","",IFERROR(INDEX(Customers!$B$11:$B$5000,MATCH($B13,Customers!$A$11:$A$5000,0)),"Unknown ID")) | H13: =IF(AND($A13="",$B13="",$D13="",$E13="",$F13="",$G13=""),"",IF($A13="","Fix: add a charge ID",IF(COUNTIF($A$6:$A$5000,$A13)+COUNTIF(Payments!$A$6:$A$5000,$A13)>1,"Fix: duplicate ID",IF($B13="","Fix: choose a customer ID",IF(COUNTIF(Customers!$A$11:$A$5000,$B13)=0,"Fix: unknown customer ID",IF(COUNTIF(Customers!$A$11:$A$5000,$B13)>1,"Fix: customer ID used twice on Customers",IF(NOT(ISNUMBER($D13)),"Fix: charge date",IF(OR($D13<36526,$D13<>INT($D13)),"Fix: charge date",IF($D13>AsOf,"Fix: charge date is after the as-of date",IF(NOT(ISNUMBER($E13)),"Fix: due date",IF(OR($E13<36526,$E13<>INT($E13)),"Fix: due date",IF($E13<$D13,"Fix: due date is before the charge date",IF(NOT(ISNUMBER($F13)),"Fix: amount must be a number",IF($F13<=0,"Fix: amount must be more than 0",IF(ROUND($F13,2)<>$F13,"Fix: amount in dollars and cents",IF($F13>999999.99,"Fix: amount too large","OK"))))))))))))))))
C14: =IF($B14="","",IFERROR(INDEX(Customers!$B$11:$B$5000,MATCH($B14,Customers!$A$11:$A$5000,0)),"Unknown ID")) | H14: =IF(AND($A14="",$B14="",$D14="",$E14="",$F14="",$G14=""),"",IF($A14="","Fix: add a charge ID",IF(COUNTIF($A$6:$A$5000,$A14)+COUNTIF(Payments!$A$6:$A$5000,$A14)>1,"Fix: duplicate ID",IF($B14="","Fix: choose a customer ID",IF(COUNTIF(Customers!$A$11:$A$5000,$B14)=0,"Fix: unknown customer ID",IF(COUNTIF(Customers!$A$11:$A$5000,$B14)>1,"Fix: customer ID used twice on Customers",IF(NOT(ISNUMBER($D14)),"Fix: charge date",IF(OR($D14<36526,$D14<>INT($D14)),"Fix: charge date",IF($D14>AsOf,"Fix: charge date is after the as-of date",IF(NOT(ISNUMBER($E14)),"Fix: due date",IF(OR($E14<36526,$E14<>INT($E14)),"Fix: due date",IF($E14<$D14,"Fix: due date is before the charge date",IF(NOT(ISNUMBER($F14)),"Fix: amount must be a number",IF($F14<=0,"Fix: amount must be more than 0",IF(ROUND($F14,2)<>$F14,"Fix: amount in dollars and cents",IF($F14>999999.99,"Fix: amount too large","OK"))))))))))))))))
C15: =IF($B15="","",IFERROR(INDEX(Customers!$B$11:$B$5000,MATCH($B15,Customers!$A$11:$A$5000,0)),"Unknown ID")) | H15: =IF(AND($A15="",$B15="",$D15="",$E15="",$F15="",$G15=""),"",IF($A15="","Fix: add a charge ID",IF(COUNTIF($A$6:$A$5000,$A15)+COUNTIF(Payments!$A$6:$A$5000,$A15)>1,"Fix: duplicate ID",IF($B15="","Fix: choose a customer ID",IF(COUNTIF(Customers!$A$11:$A$5000,$B15)=0,"Fix: unknown customer ID",IF(COUNTIF(Customers!$A$11:$A$5000,$B15)>1,"Fix: customer ID used twice on Customers",IF(NOT(ISNUMBER($D15)),"Fix: charge date",IF(OR($D15<36526,$D15<>INT($D15)),"Fix: charge date",IF($D15>AsOf,"Fix: charge date is after the as-of date",IF(NOT(ISNUMBER($E15)),"Fix: due date",IF(OR($E15<36526,$E15<>INT($E15)),"Fix: due date",IF($E15<$D15,"Fix: due date is before the charge date",IF(NOT(ISNUMBER($F15)),"Fix: amount must be a number",IF($F15<=0,"Fix: amount must be more than 0",IF(ROUND($F15,2)<>$F15,"Fix: amount in dollars and cents",IF($F15>999999.99,"Fix: amount too large","OK"))))))))))))))))
C16: =IF($B16="","",IFERROR(INDEX(Customers!$B$11:$B$5000,MATCH($B16,Customers!$A$11:$A$5000,0)),"Unknown ID")) | H16: =IF(AND($A16="",$B16="",$D16="",$E16="",$F16="",$G16=""),"",IF($A16="","Fix: add a charge ID",IF(COUNTIF($A$6:$A$5000,$A16)+COUNTIF(Payments!$A$6:$A$5000,$A16)>1,"Fix: duplicate ID",IF($B16="","Fix: choose a customer ID",IF(COUNTIF(Customers!$A$11:$A$5000,$B16)=0,"Fix: unknown customer ID",IF(COUNTIF(Customers!$A$11:$A$5000,$B16)>1,"Fix: customer ID used twice on Customers",IF(NOT(ISNUMBER($D16)),"Fix: charge date",IF(OR($D16<36526,$D16<>INT($D16)),"Fix: charge date",IF($D16>AsOf,"Fix: charge date is after the as-of date",IF(NOT(ISNUMBER($E16)),"Fix: due date",IF(OR($E16<36526,$E16<>INT($E16)),"Fix: due date",IF($E16<$D16,"Fix: due date is before the charge date",IF(NOT(ISNUMBER($F16)),"Fix: amount must be a number",IF($F16<=0,"Fix: amount must be more than 0",IF(ROUND($F16,2)<>$F16,"Fix: amount in dollars and cents",IF($F16>999999.99,"Fix: amount too large","OK"))))))))))))))))
C17: =IF($B17="","",IFERROR(INDEX(Customers!$B$11:$B$5000,MATCH($B17,Customers!$A$11:$A$5000,0)),"Unknown ID")) | H17: =IF(AND($A17="",$B17="",$D17="",$E17="",$F17="",$G17=""),"",IF($A17="","Fix: add a charge ID",IF(COUNTIF($A$6:$A$5000,$A17)+COUNTIF(Payments!$A$6:$A$5000,$A17)>1,"Fix: duplicate ID",IF($B17="","Fix: choose a customer ID",IF(COUNTIF(Customers!$A$11:$A$5000,$B17)=0,"Fix: unknown customer ID",IF(COUNTIF(Customers!$A$11:$A$5000,$B17)>1,"Fix: customer ID used twice on Customers",IF(NOT(ISNUMBER($D17)),"Fix: charge date",IF(OR($D17<36526,$D17<>INT($D17)),"Fix: charge date",IF($D17>AsOf,"Fix: charge date is after the as-of date",IF(NOT(ISNUMBER($E17)),"Fix: due date",IF(OR($E17<36526,$E17<>INT($E17)),"Fix: due date",IF($E17<$D17,"Fix: due date is before the charge date",IF(NOT(ISNUMBER($F17)),"Fix: amount must be a number",IF($F17<=0,"Fix: amount must be more than 0",IF(ROUND($F17,2)<>$F17,"Fix: amount in dollars and cents",IF($F17>999999.99,"Fix: amount too large","OK"))))))))))))))))
... C1005: =IF($B1005="","",IFERROR(INDEX(Customers!$B$11:$B$5000,MATCH($B1005,Customers!$A$11:$A$5000,0)),"Unknown ID")) | H1005: =IF(AND($A1005="",$B1005="",$D1005="",$E1005="",$F1005="",$G1005=""),"",IF($A1005="","Fix: add a charge ID",IF(COUNTIF($A$6:$A$5000,$A1005)+COUNTIF(Payments!$A$6:$A$5000,$A1005)>1,"Fix: duplicate ID",IF($B1005="","Fix: choose a customer ID",IF(COUNTIF(Customers!$A$11:$A$5000,$B1005)=0,"Fix: unknown customer ID",IF(COUNTIF(Customers!$A$11:$A$5000,$B1005)>1,"Fix: customer ID used twice on Customers",IF(NOT(ISNUMBER($D1005)),"Fix: charge date",IF(OR($D1005<36526,$D1005<>INT($D1005)),"Fix: charge date",IF($D1005>AsOf,"Fix: charge date is after the as-of date",IF(NOT(ISNUMBER($E1005)),"Fix: due date",IF(OR($E1005<36526,$E1005<>INT($E1005)),"Fix: due date",IF($E1005<$D1005,"Fix: due date is before the charge date",IF(NOT(ISNUMBER($F1005)),"Fix: amount must be a number",IF($F1005<=0,"Fix: amount must be more than 0",IF(ROUND($F1005,2)<>$F1005,"Fix: amount in dollars and cents",IF($F1005>999999.99,"Fix: amount too large","OK"))))))))))))))))

Sheet Payments
A1: Payments
A2: One row per payment actually received, dated the day you received it (not a future date). Give each row its own Payment ID (e.g. PM-001) and pick the Customer ID. Payments go to the customer's earliest-due charges first. Never enter card or bank numbers.
A3: =IF(SUMPRODUCT(--(LEFT(Payments!$G$6:$G$5000,4)="Fix:"))=0,"All rows check out.","⚠ "&SUMPRODUCT(--(LEFT(Payments!$G$6:$G$5000,4)="Fix:"))&" row(s) need fixing. They aren't counted in any total until fixed.") -> All rows check out.
A5: Payment ID | B5: Customer ID | C5: Customer | D5: Date received | E5: Amount | F5: Reference | G5: Check
C6: =IF($B6="","",IFERROR(INDEX(Customers!$B$11:$B$5000,MATCH($B6,Customers!$A$11:$A$5000,0)),"Unknown ID")) | G6: =IF(AND($A6="",$B6="",$D6="",$E6="",$F6=""),"",IF($A6="","Fix: add a payment ID",IF(COUNTIF($A$6:$A$5000,$A6)+COUNTIF(Charges!$A$6:$A$5000,$A6)>1,"Fix: duplicate ID",IF($B6="","Fix: choose a customer ID",IF(COUNTIF(Customers!$A$11:$A$5000,$B6)=0,"Fix: unknown customer ID",IF(COUNTIF(Customers!$A$11:$A$5000,$B6)>1,"Fix: customer ID used twice on Customers",IF(NOT(ISNUMBER($D6)),"Fix: date received",IF(OR($D6<36526,$D6<>INT($D6)),"Fix: date received",IF($D6>AsOf,"Fix: date received is after the as-of date",IF(NOT(ISNUMBER($E6)),"Fix: amount must be a number",IF($E6<=0,"Fix: amount must be more than 0",IF(ROUND($E6,2)<>$E6,"Fix: amount in dollars and cents",IF($E6>999999.99,"Fix: amount too large","OK")))))))))))))
C7: =IF($B7="","",IFERROR(INDEX(Customers!$B$11:$B$5000,MATCH($B7,Customers!$A$11:$A$5000,0)),"Unknown ID")) | G7: =IF(AND($A7="",$B7="",$D7="",$E7="",$F7=""),"",IF($A7="","Fix: add a payment ID",IF(COUNTIF($A$6:$A$5000,$A7)+COUNTIF(Charges!$A$6:$A$5000,$A7)>1,"Fix: duplicate ID",IF($B7="","Fix: choose a customer ID",IF(COUNTIF(Customers!$A$11:$A$5000,$B7)=0,"Fix: unknown customer ID",IF(COUNTIF(Customers!$A$11:$A$5000,$B7)>1,"Fix: customer ID used twice on Customers",IF(NOT(ISNUMBER($D7)),"Fix: date received",IF(OR($D7<36526,$D7<>INT($D7)),"Fix: date received",IF($D7>AsOf,"Fix: date received is after the as-of date",IF(NOT(ISNUMBER($E7)),"Fix: amount must be a number",IF($E7<=0,"Fix: amount must be more than 0",IF(ROUND($E7,2)<>$E7,"Fix: amount in dollars and cents",IF($E7>999999.99,"Fix: amount too large","OK")))))))))))))
C8: =IF($B8="","",IFERROR(INDEX(Customers!$B$11:$B$5000,MATCH($B8,Customers!$A$11:$A$5000,0)),"Unknown ID")) | G8: =IF(AND($A8="",$B8="",$D8="",$E8="",$F8=""),"",IF($A8="","Fix: add a payment ID",IF(COUNTIF($A$6:$A$5000,$A8)+COUNTIF(Charges!$A$6:$A$5000,$A8)>1,"Fix: duplicate ID",IF($B8="","Fix: choose a customer ID",IF(COUNTIF(Customers!$A$11:$A$5000,$B8)=0,"Fix: unknown customer ID",IF(COUNTIF(Customers!$A$11:$A$5000,$B8)>1,"Fix: customer ID used twice on Customers",IF(NOT(ISNUMBER($D8)),"Fix: date received",IF(OR($D8<36526,$D8<>INT($D8)),"Fix: date received",IF($D8>AsOf,"Fix: date received is after the as-of date",IF(NOT(ISNUMBER($E8)),"Fix: amount must be a number",IF($E8<=0,"Fix: amount must be more than 0",IF(ROUND($E8,2)<>$E8,"Fix: amount in dollars and cents",IF($E8>999999.99,"Fix: amount too large","OK")))))))))))))
C9: =IF($B9="","",IFERROR(INDEX(Customers!$B$11:$B$5000,MATCH($B9,Customers!$A$11:$A$5000,0)),"Unknown ID")) | G9: =IF(AND($A9="",$B9="",$D9="",$E9="",$F9=""),"",IF($A9="","Fix: add a payment ID",IF(COUNTIF($A$6:$A$5000,$A9)+COUNTIF(Charges!$A$6:$A$5000,$A9)>1,"Fix: duplicate ID",IF($B9="","Fix: choose a customer ID",IF(COUNTIF(Customers!$A$11:$A$5000,$B9)=0,"Fix: unknown customer ID",IF(COUNTIF(Customers!$A$11:$A$5000,$B9)>1,"Fix: customer ID used twice on Customers",IF(NOT(ISNUMBER($D9)),"Fix: date received",IF(OR($D9<36526,$D9<>INT($D9)),"Fix: date received",IF($D9>AsOf,"Fix: date received is after the as-of date",IF(NOT(ISNUMBER($E9)),"Fix: amount must be a number",IF($E9<=0,"Fix: amount must be more than 0",IF(ROUND($E9,2)<>$E9,"Fix: amount in dollars and cents",IF($E9>999999.99,"Fix: amount too large","OK")))))))))))))
C10: =IF($B10="","",IFERROR(INDEX(Customers!$B$11:$B$5000,MATCH($B10,Customers!$A$11:$A$5000,0)),"Unknown ID")) | G10: =IF(AND($A10="",$B10="",$D10="",$E10="",$F10=""),"",IF($A10="","Fix: add a payment ID",IF(COUNTIF($A$6:$A$5000,$A10)+COUNTIF(Charges!$A$6:$A$5000,$A10)>1,"Fix: duplicate ID",IF($B10="","Fix: choose a customer ID",IF(COUNTIF(Customers!$A$11:$A$5000,$B10)=0,"Fix: unknown customer ID",IF(COUNTIF(Customers!$A$11:$A$5000,$B10)>1,"Fix: customer ID used twice on Customers",IF(NOT(ISNUMBER($D10)),"Fix: date received",IF(OR($D10<36526,$D10<>INT($D10)),"Fix: date received",IF($D10>AsOf,"Fix: date received is after the as-of date",IF(NOT(ISNUMBER($E10)),"Fix: amount must be a number",IF($E10<=0,"Fix: amount must be more than 0",IF(ROUND($E10,2)<>$E10,"Fix: amount in dollars and cents",IF($E10>999999.99,"Fix: amount too large","OK")))))))))))))
C11: =IF($B11="","",IFERROR(INDEX(Customers!$B$11:$B$5000,MATCH($B11,Customers!$A$11:$A$5000,0)),"Unknown ID")) | G11: =IF(AND($A11="",$B11="",$D11="",$E11="",$F11=""),"",IF($A11="","Fix: add a payment ID",IF(COUNTIF($A$6:$A$5000,$A11)+COUNTIF(Charges!$A$6:$A$5000,$A11)>1,"Fix: duplicate ID",IF($B11="","Fix: choose a customer ID",IF(COUNTIF(Customers!$A$11:$A$5000,$B11)=0,"Fix: unknown customer ID",IF(COUNTIF(Customers!$A$11:$A$5000,$B11)>1,"Fix: customer ID used twice on Customers",IF(NOT(ISNUMBER($D11)),"Fix: date received",IF(OR($D11<36526,$D11<>INT($D11)),"Fix: date received",IF($D11>AsOf,"Fix: date received is after the as-of date",IF(NOT(ISNUMBER($E11)),"Fix: amount must be a number",IF($E11<=0,"Fix: amount must be more than 0",IF(ROUND($E11,2)<>$E11,"Fix: amount in dollars and cents",IF($E11>999999.99,"Fix: amount too large","OK")))))))))))))
C12: =IF($B12="","",IFERROR(INDEX(Customers!$B$11:$B$5000,MATCH($B12,Customers!$A$11:$A$5000,0)),"Unknown ID")) | G12: =IF(AND($A12="",$B12="",$D12="",$E12="",$F12=""),"",IF($A12="","Fix: add a payment ID",IF(COUNTIF($A$6:$A$5000,$A12)+COUNTIF(Charges!$A$6:$A$5000,$A12)>1,"Fix: duplicate ID",IF($B12="","Fix: choose a customer ID",IF(COUNTIF(Customers!$A$11:$A$5000,$B12)=0,"Fix: unknown customer ID",IF(COUNTIF(Customers!$A$11:$A$5000,$B12)>1,"Fix: customer ID used twice on Customers",IF(NOT(ISNUMBER($D12)),"Fix: date received",IF(OR($D12<36526,$D12<>INT($D12)),"Fix: date received",IF($D12>AsOf,"Fix: date received is after the as-of date",IF(NOT(ISNUMBER($E12)),"Fix: amount must be a number",IF($E12<=0,"Fix: amount must be more than 0",IF(ROUND($E12,2)<>$E12,"Fix: amount in dollars and cents",IF($E12>999999.99,"Fix: amount too large","OK")))))))))))))
C13: =IF($B13="","",IFERROR(INDEX(Customers!$B$11:$B$5000,MATCH($B13,Customers!$A$11:$A$5000,0)),"Unknown ID")) | G13: =IF(AND($A13="",$B13="",$D13="",$E13="",$F13=""),"",IF($A13="","Fix: add a payment ID",IF(COUNTIF($A$6:$A$5000,$A13)+COUNTIF(Charges!$A$6:$A$5000,$A13)>1,"Fix: duplicate ID",IF($B13="","Fix: choose a customer ID",IF(COUNTIF(Customers!$A$11:$A$5000,$B13)=0,"Fix: unknown customer ID",IF(COUNTIF(Customers!$A$11:$A$5000,$B13)>1,"Fix: customer ID used twice on Customers",IF(NOT(ISNUMBER($D13)),"Fix: date received",IF(OR($D13<36526,$D13<>INT($D13)),"Fix: date received",IF($D13>AsOf,"Fix: date received is after the as-of date",IF(NOT(ISNUMBER($E13)),"Fix: amount must be a number",IF($E13<=0,"Fix: amount must be more than 0",IF(ROUND($E13,2)<>$E13,"Fix: amount in dollars and cents",IF($E13>999999.99,"Fix: amount too large","OK")))))))))))))
C14: =IF($B14="","",IFERROR(INDEX(Customers!$B$11:$B$5000,MATCH($B14,Customers!$A$11:$A$5000,0)),"Unknown ID")) | G14: =IF(AND($A14="",$B14="",$D14="",$E14="",$F14=""),"",IF($A14="","Fix: add a payment ID",IF(COUNTIF($A$6:$A$5000,$A14)+COUNTIF(Charges!$A$6:$A$5000,$A14)>1,"Fix: duplicate ID",IF($B14="","Fix: choose a customer ID",IF(COUNTIF(Customers!$A$11:$A$5000,$B14)=0,"Fix: unknown customer ID",IF(COUNTIF(Customers!$A$11:$A$5000,$B14)>1,"Fix: customer ID used twice on Customers",IF(NOT(ISNUMBER($D14)),"Fix: date received",IF(OR($D14<36526,$D14<>INT($D14)),"Fix: date received",IF($D14>AsOf,"Fix: date received is after the as-of date",IF(NOT(ISNUMBER($E14)),"Fix: amount must be a number",IF($E14<=0,"Fix: amount must be more than 0",IF(ROUND($E14,2)<>$E14,"Fix: amount in dollars and cents",IF($E14>999999.99,"Fix: amount too large","OK")))))))))))))
C15: =IF($B15="","",IFERROR(INDEX(Customers!$B$11:$B$5000,MATCH($B15,Customers!$A$11:$A$5000,0)),"Unknown ID")) | G15: =IF(AND($A15="",$B15="",$D15="",$E15="",$F15=""),"",IF($A15="","Fix: add a payment ID",IF(COUNTIF($A$6:$A$5000,$A15)+COUNTIF(Charges!$A$6:$A$5000,$A15)>1,"Fix: duplicate ID",IF($B15="","Fix: choose a customer ID",IF(COUNTIF(Customers!$A$11:$A$5000,$B15)=0,"Fix: unknown customer ID",IF(COUNTIF(Customers!$A$11:$A$5000,$B15)>1,"Fix: customer ID used twice on Customers",IF(NOT(ISNUMBER($D15)),"Fix: date received",IF(OR($D15<36526,$D15<>INT($D15)),"Fix: date received",IF($D15>AsOf,"Fix: date received is after the as-of date",IF(NOT(ISNUMBER($E15)),"Fix: amount must be a number",IF($E15<=0,"Fix: amount must be more than 0",IF(ROUND($E15,2)<>$E15,"Fix: amount in dollars and cents",IF($E15>999999.99,"Fix: amount too large","OK")))))))))))))
C16: =IF($B16="","",IFERROR(INDEX(Customers!$B$11:$B$5000,MATCH($B16,Customers!$A$11:$A$5000,0)),"Unknown ID")) | G16: =IF(AND($A16="",$B16="",$D16="",$E16="",$F16=""),"",IF($A16="","Fix: add a payment ID",IF(COUNTIF($A$6:$A$5000,$A16)+COUNTIF(Charges!$A$6:$A$5000,$A16)>1,"Fix: duplicate ID",IF($B16="","Fix: choose a customer ID",IF(COUNTIF(Customers!$A$11:$A$5000,$B16)=0,"Fix: unknown customer ID",IF(COUNTIF(Customers!$A$11:$A$5000,$B16)>1,"Fix: customer ID used twice on Customers",IF(NOT(ISNUMBER($D16)),"Fix: date received",IF(OR($D16<36526,$D16<>INT($D16)),"Fix: date received",IF($D16>AsOf,"Fix: date received is after the as-of date",IF(NOT(ISNUMBER($E16)),"Fix: amount must be a number",IF($E16<=0,"Fix: amount must be more than 0",IF(ROUND($E16,2)<>$E16,"Fix: amount in dollars and cents",IF($E16>999999.99,"Fix: amount too large","OK")))))))))))))
C17: =IF($B17="","",IFERROR(INDEX(Customers!$B$11:$B$5000,MATCH($B17,Customers!$A$11:$A$5000,0)),"Unknown ID")) | G17: =IF(AND($A17="",$B17="",$D17="",$E17="",$F17=""),"",IF($A17="","Fix: add a payment ID",IF(COUNTIF($A$6:$A$5000,$A17)+COUNTIF(Charges!$A$6:$A$5000,$A17)>1,"Fix: duplicate ID",IF($B17="","Fix: choose a customer ID",IF(COUNTIF(Customers!$A$11:$A$5000,$B17)=0,"Fix: unknown customer ID",IF(COUNTIF(Customers!$A$11:$A$5000,$B17)>1,"Fix: customer ID used twice on Customers",IF(NOT(ISNUMBER($D17)),"Fix: date received",IF(OR($D17<36526,$D17<>INT($D17)),"Fix: date received",IF($D17>AsOf,"Fix: date received is after the as-of date",IF(NOT(ISNUMBER($E17)),"Fix: amount must be a number",IF($E17<=0,"Fix: amount must be more than 0",IF(ROUND($E17,2)<>$E17,"Fix: amount in dollars and cents",IF($E17>999999.99,"Fix: amount too large","OK")))))))))))))
... C1005: =IF($B1005="","",IFERROR(INDEX(Customers!$B$11:$B$5000,MATCH($B1005,Customers!$A$11:$A$5000,0)),"Unknown ID")) | G1005: =IF(AND($A1005="",$B1005="",$D1005="",$E1005="",$F1005=""),"",IF($A1005="","Fix: add a payment ID",IF(COUNTIF($A$6:$A$5000,$A1005)+COUNTIF(Charges!$A$6:$A$5000,$A1005)>1,"Fix: duplicate ID",IF($B1005="","Fix: choose a customer ID",IF(COUNTIF(Customers!$A$11:$A$5000,$B1005)=0,"Fix: unknown customer ID",IF(COUNTIF(Customers!$A$11:$A$5000,$B1005)>1,"Fix: customer ID used twice on Customers",IF(NOT(ISNUMBER($D1005)),"Fix: date received",IF(OR($D1005<36526,$D1005<>INT($D1005)),"Fix: date received",IF($D1005>AsOf,"Fix: date received is after the as-of date",IF(NOT(ISNUMBER($E1005)),"Fix: amount must be a number",IF($E1005<=0,"Fix: amount must be more than 0",IF(ROUND($E1005,2)<>$E1005,"Fix: amount in dollars and cents",IF($E1005>999999.99,"Fix: amount too large","OK")))))))))))))
